BEGIN:VCALENDAR
VERSION:2.0
PRODID:-//Kehilat Sar Shalom - ECPv6.15.20//NONSGML v1.0//EN
CALSCALE:GREGORIAN
METHOD:PUBLISH
X-ORIGINAL-URL:https://kehilatsarshalom.org
X-WR-CALDESC:Events for Kehilat Sar Shalom
REFRESH-INTERVAL;VALUE=DURATION:PT1H
X-Robots-Tag:noindex
X-PUBLISHED-TTL:PT1H
BEGIN:VTIMEZONE
TZID:America/New_York
BEGIN:DAYLIGHT
TZOFFSETFROM:-0500
TZOFFSETTO:-0400
TZNAME:EDT
DTSTART:20230312T070000
END:DAYLIGHT
BEGIN:STANDARD
TZOFFSETFROM:-0400
TZOFFSETTO:-0500
TZNAME:EST
DTSTART:20231105T060000
END:STANDARD
BEGIN:DAYLIGHT
TZOFFSETFROM:-0500
TZOFFSETTO:-0400
TZNAME:EDT
DTSTART:20240310T070000
END:DAYLIGHT
BEGIN:STANDARD
TZOFFSETFROM:-0400
TZOFFSETTO:-0500
TZNAME:EST
DTSTART:20241103T060000
END:STANDARD
BEGIN:DAYLIGHT
TZOFFSETFROM:-0500
TZOFFSETTO:-0400
TZNAME:EDT
DTSTART:20250309T070000
END:DAYLIGHT
BEGIN:STANDARD
TZOFFSETFROM:-0400
TZOFFSETTO:-0500
TZNAME:EST
DTSTART:20251102T060000
END:STANDARD
BEGIN:DAYLIGHT
TZOFFSETFROM:-0500
TZOFFSETTO:-0400
TZNAME:EDT
DTSTART:20260308T070000
END:DAYLIGHT
BEGIN:STANDARD
TZOFFSETFROM:-0400
TZOFFSETTO:-0500
TZNAME:EST
DTSTART:20261101T060000
END:STANDARD
BEGIN:DAYLIGHT
TZOFFSETFROM:-0500
TZOFFSETTO:-0400
TZNAME:EDT
DTSTART:20270314T070000
END:DAYLIGHT
BEGIN:STANDARD
TZOFFSETFROM:-0400
TZOFFSETTO:-0500
TZNAME:EST
DTSTART:20271107T060000
END:STANDARD
END:VTIMEZONE
BEGIN:VEVENT
DTSTART;TZID=America/New_York:20240323T110000
DTEND;TZID=America/New_York:20240323T130000
DTSTAMP:20260423T164501
CREATED:20240303T225052Z
LAST-MODIFIED:20240306T192807Z
UID:4644-1711191600-1711198800@kehilatsarshalom.org
SUMMARY:Purim Celebration
DESCRIPTION:Please join us for our Annual Purim Celebration on March 23rd. We will be having a regular service\, however we will be reading the Megillah of Esther after services\, along with a special oneg/fellowship meal to celebrate! It is traditional to dress up in costumes for the holiday\, please participate! Rabbi Neal and I will be dressed up\, so join us in the fun! \nSince this is fellowship meal\, please bring a main dish that will serve 10-15 people\, a side dish or snack (chips\, pretzels\, etc…) and beverages. All food needs to be biblically kosher (no pork\, shellfish\, i.e.) If you have any questions regarding this\, please contact Rebbetzin Kim at Kim.surasky@gmail.com. \n  \n 
URL:https://kehilatsarshalom.org/event/purim-celebration/
LOCATION:Kehilat Sar Shalom\, 908 Trailview Blvd SE Suite 200\, Leesburg\, VA\, 20175
ATTACH;FMTTYPE=image/jpeg:https://kehilatsarshalom.org/wp-content/uploads/2024/03/unnamed.jpg
END:VEVENT
BEGIN:VEVENT
DTSTART;TZID=America/New_York:20241012T104500
DTEND;TZID=America/New_York:20241012T130000
DTSTAMP:20260423T164501
CREATED:20240826T153625Z
LAST-MODIFIED:20241014T195508Z
UID:4791-1728729900-1728738000@kehilatsarshalom.org
SUMMARY:Yom Kippur
DESCRIPTION:YOM KIPPUR – 10:45 AM\, OCTOBER 12\, 2024 IN-PERSON AND LIVESTREAM \n 
URL:https://kehilatsarshalom.org/event/yom-kippur/
LOCATION:Kehilat Sar Shalom\, 908 Trailview Blvd SE Suite 200\, Leesburg\, VA\, 20175
CATEGORIES:High Holy Days
ATTACH;FMTTYPE=image/png:https://kehilatsarshalom.org/wp-content/uploads/2024/08/New-Signed-and-Sealed.png
ORGANIZER;CN="Kim Surasky":MAILTO:kim.surasky@gmail.com
END:VEVENT
BEGIN:VEVENT
DTSTART;TZID=America/New_York:20241019T104500
DTEND;TZID=America/New_York:20241022T130000
DTSTAMP:20260423T164501
CREATED:20240826T153832Z
LAST-MODIFIED:20240826T154302Z
UID:4794-1729334700-1729602000@kehilatsarshalom.org
SUMMARY:Sukkot
DESCRIPTION:SUKKOT – 10:45 AM\, OCTOBER 19\, 2024 \nIN-PERSON AND LIVESTREAM (PICNIC AFTER SERVICES-PENDING) \n 
URL:https://kehilatsarshalom.org/event/sukkot/
LOCATION:Kehilat Sar Shalom\, 908 Trailview Blvd SE Suite 200\, Leesburg\, VA\, 20175
CATEGORIES:High Holy Days
ATTACH;FMTTYPE=image/png:https://kehilatsarshalom.org/wp-content/uploads/2024/08/Sukkot-with-Yeshua.png
ORGANIZER;CN="Kim Surasky":MAILTO:kim.surasky@gmail.com
END:VEVENT
BEGIN:VEVENT
DTSTART;TZID=America/New_York:20250419T110000
DTEND;TZID=America/New_York:20250419T140000
DTSTAMP:20260423T164501
CREATED:20240305T152451Z
LAST-MODIFIED:20250405T014006Z
UID:4697-1745060400-1745071200@kehilatsarshalom.org
SUMMARY:Passover Seder
DESCRIPTION:KSS is hosting a Passover Seder in place of our normal Shabbat service on April 19\, 2025. \nWe will be doing things a little different this year due to scheduling issues with the Church of the Holy Spirit.  It will be a traditional seder with a meal\, however\, it will be a fellowship meal that participants will need to sign up for specific items to contribute to the seder. There will also be a sign-up sheet to contribute the elements needed for the seder plate. Sign-up sheets will be on the table this Shabbat and April 12th. If you are unable to attend those Shabbat services but are planning on attending the seder on April 19th\, please email me at Kim.Surasky@gmail.com \nWe will also need help with set-up and tear-down for the seder. The Church of the Holy Spirit is holding an event at the church that evening and we need to reset the sanctuary before their activity. There will be sign-up sheets available this Shabbat and April 12th to commit to helping with set-up and tear-down before and after the seder. \nThe purpose of doing the event in this manner this year is to make it more of a family seder and affordable for all. You must RSVP for the seder and are expected to sign up and contribute to the seder meal items. All items need to be leaven free. All items brought for the meal need to be fully cooked and ready to be served. You will need to be responsible for cleaning your dishes and utensils\, so we highly recommend that you bring items in a crockpot (if applicable) or disposable containers. \nA RSVP sheet will be on the welcome table this Shabbat and next. You must RSVP by April 12th. Only those who RSVP will be able to participate. \nWe look forward to seeing you at the seder! \n** Seder customs include telling the story\, discussing the story\, drinking four cups of wine\, eating matzah\, partaking of symbolic foods\, and reclining in celebration of freedom. The Seder is among the most commonly celebrated Jewish rituals\, performed by Jews all over the world. \n 
URL:https://kehilatsarshalom.org/event/passover-seder/
LOCATION:Kehilat Sar Shalom\, 908 Trailview Blvd SE Suite 200\, Leesburg\, VA\, 20175
ATTACH;FMTTYPE=image/jpeg:https://kehilatsarshalom.org/wp-content/uploads/2024/03/2024_Passover.jpg
ORGANIZER;CN="Kim Surasky":MAILTO:kim.surasky@gmail.com
END:VEVENT
BEGIN:VEVENT
DTSTART;TZID=America/New_York:20250829T163000
DTEND;TZID=America/New_York:20250901T103000
DTSTAMP:20260423T164501
CREATED:20240718T165012Z
LAST-MODIFIED:20250822T203050Z
UID:4780-1756485000-1756722600@kehilatsarshalom.org
SUMMARY:Messianic Weekend Retreat - Simcha
DESCRIPTION:Simcha (Joy in Hebrew) is a time for believers to celebrate the joy we have in Messiah. This retreat is for Jewish believers and people connected to Chosen People Ministries or Messianic congregations in the Northeast and mid-Atlantic. It will feature worship\, teaching\, and workshops to deepen our walk with the Lord. We know this weekend together in nature will provide much-needed refreshment! \nRegister by June 30\, 2025\, to receive a 10 percent discount. Registration closes on August 5\, 2025. \nFor more information about housing\, off-campus housing\, and day guests\, or to register\, click the following links.
URL:https://kehilatsarshalom.org/event/messianic-weekend-retreat-simcha/
LOCATION:Bongornio Conference Center\, 430 Union Hall Rd\, Carlisle\, PA\, 17013\, United States
ATTACH;FMTTYPE=image/png:https://kehilatsarshalom.org/wp-content/uploads/2024/07/unnamed2.png
ORGANIZER;CN="Kim Surasky":MAILTO:kim.surasky@gmail.com
END:VEVENT
BEGIN:VEVENT
DTSTART;TZID=America/New_York:20250922T180000
DTEND;TZID=America/New_York:20250922T200000
DTSTAMP:20260423T164501
CREATED:20250917T191349Z
LAST-MODIFIED:20250917T191442Z
UID:4866-1758564000-1758571200@kehilatsarshalom.org
SUMMARY:Rosh Hashanah - 2025
DESCRIPTION:We will be having a fellowship dessert after services of dishes made with apples and/or honey to celebrate! \nPlease bring your contribution with you. \nIf you have any questions\, please email Rabbi Neal at rabbinealsurasky@gmail.com
URL:https://kehilatsarshalom.org/event/rosh-hashanah-2025/
LOCATION:Kehilat Sar Shalom\, 908 Trailview Blvd SE Suite 200\, Leesburg\, VA\, 20175
CATEGORIES:High Holy Days
ORGANIZER;CN="Kim Surasky":MAILTO:kim.surasky@gmail.com
END:VEVENT
BEGIN:VEVENT
DTSTART;TZID=America/New_York:20251001T180000
DTEND;TZID=America/New_York:20251001T210000
DTSTAMP:20260423T164501
CREATED:20250917T190941Z
LAST-MODIFIED:20250917T191515Z
UID:4861-1759341600-1759352400@kehilatsarshalom.org
SUMMARY:Yom Kippur 2025
DESCRIPTION:Customary to wear white clothes to service.\nIf you have any questions\, please email Rabbi Neal at rabbinealsurasky@gmail.com
URL:https://kehilatsarshalom.org/event/yom-kippur-2025/
LOCATION:Kehilat Sar Shalom\, 908 Trailview Blvd SE Suite 200\, Leesburg\, VA\, 20175
CATEGORIES:High Holy Days
ORGANIZER;CN="Neal Surasky":MAILTO:rabbinealsurasky@gmail.com
END:VEVENT
BEGIN:VEVENT
DTSTART;TZID=America/New_York:20251011T110000
DTEND;TZID=America/New_York:20251011T150000
DTSTAMP:20260423T164501
CREATED:20250917T190532Z
LAST-MODIFIED:20250917T192640Z
UID:4856-1760180400-1760194800@kehilatsarshalom.org
SUMMARY:Sukkot 2025
DESCRIPTION:Sukkot in place of weekly Sabbath service. \nA wonderful fellowship meal following service to celebrate! \nIf you have any questions\, please email Rabbi Neal at rabbinealsurasky@gmail.com
URL:https://kehilatsarshalom.org/event/sukkot-2025/
LOCATION:Kehilat Sar Shalom\, 908 Trailview Blvd SE Suite 200\, Leesburg\, VA\, 20175
CATEGORIES:High Holy Days,Shabbat Service
ORGANIZER;CN="Kim Surasky":MAILTO:kim.surasky@gmail.com
END:VEVENT
BEGIN:VEVENT
DTSTART;TZID=America/New_York:20251213T120000
DTEND;TZID=America/New_York:20251213T133000
DTSTAMP:20260423T164501
CREATED:20251101T133432Z
LAST-MODIFIED:20251101T133822Z
UID:4923-1765627200-1765632600@kehilatsarshalom.org
SUMMARY:Annual Congregation Meeting
DESCRIPTION:KSS by-laws require an annual meeting of the membership to be held at a date determined by the Board.  In addition to our weekly Newsletter and Shabbat livestream\, this announce serves as a public notice of the time and place for this meeting. \nAt the annual meeting\, the Board-approved budget and any reports will be presented\, candidates for non-elder Directors and Shamashim will be presented and elected\, and any other business matters the Board may deem appropriate.
URL:https://kehilatsarshalom.org/event/annual-congregation-meeting/
LOCATION:Kehilat Sar Shalom\, 908 Trailview Blvd SE Suite 200\, Leesburg\, VA\, 20175
ATTACH;FMTTYPE=image/webp:https://kehilatsarshalom.org/wp-content/uploads/2025/11/AC-Meeting.webp
END:VEVENT
BEGIN:VEVENT
DTSTART;TZID=America/New_York:20260211T110000
DTEND;TZID=America/New_York:20260211T130000
DTSTAMP:20260423T164501
CREATED:20260207T024446Z
LAST-MODIFIED:20260208T110904Z
UID:4930-1770807600-1770814800@kehilatsarshalom.org
SUMMARY:Zoom - New Membership Class
DESCRIPTION:Kehilat Sar Shalom will be offering a New Member Class designed to introduce participants to the heart and calling of our Messianic Jewish congregation. The class consists of four sessions\, all of which are required for those seeking membership\, and attendance at all four classes is mandatory to complete the membership process. It is strongly recommended and encouraged for anyone who regularly attends Kehilat Sar Shalom\, even if they are not planning to become members. Each session will explore the history\, mission\, vision\, and values of the congregation\, providing a deeper understanding of who we are and what we believe. \nClasses will meet weekly on Wednesdays via Zoom\, beginning February 11th. \nFor more information or to register\, please email the Rabbi at rabbinealsurasky@gmail.com \n 
URL:https://kehilatsarshalom.org/event/zoom-new-membership-class/
LOCATION:VA
ORGANIZER;CN="Neal Surasky":MAILTO:rabbinealsurasky@gmail.com
END:VEVENT
BEGIN:VEVENT
DTSTART;VALUE=DATE:20260523
DTEND;VALUE=DATE:20260524
DTSTAMP:20260423T164501
CREATED:20260409T224413Z
LAST-MODIFIED:20260409T225109Z
UID:4992-1779494400-1779580799@kehilatsarshalom.org
SUMMARY:Shavuot 2026 / שָׁבוּעוֹת 5786
DESCRIPTION:Shavuot for Hebrew Year 5786 begins in the Diaspora at sundown on Thursday\, 21 May 2026 and ends at nightfall on Saturday\, 23 May 2026. \nThe festival of Shavuot (or Shavuos\, in Ashkenazi usage; Shabhuʿoth in Classical and Mizrahi Hebrew Hebrew: שבועות\, lit. “Weeks”) is a Jewish holiday that occurs on the sixth day of the Hebrew month of Sivan (late May or early June). Shavuot commemorates the anniversary of the day G-d gave the Torah to the entire Israelite nation assembled at Mount Sinai\, although the association between the giving of the Torah (Matan Torah) and Shavuot is not explicit in the Biblical text. The holiday is one of the Shalosh Regalim\, the three Biblical pilgrimage festivals. It marks the conclusion of the Counting of the Omer.
URL:https://kehilatsarshalom.org/event/shavuot-2026-%d7%a9%d6%b8%d7%81%d7%91%d7%95%d6%bc%d7%a2%d7%95%d6%b9%d7%aa-5786/
LOCATION:VA
END:VEVENT
END:VCALENDAR